BEGIN:VCALENDAR
VERSION:2.0
PRODID:-//MSEA-SEIU Local 1989 - ECPv6.15.20//NONSGML v1.0//EN
CALSCALE:GREGORIAN
METHOD:PUBLISH
X-ORIGINAL-URL:https://mseaseiu.org
X-WR-CALDESC:Events for MSEA-SEIU Local 1989
REFRESH-INTERVAL;VALUE=DURATION:PT1H
X-Robots-Tag:noindex
X-PUBLISHED-TTL:PT1H
BEGIN:VTIMEZONE
TZID:America/New_York
BEGIN:DAYLIGHT
TZOFFSETFROM:-0500
TZOFFSETTO:-0400
TZNAME:EDT
DTSTART:20240310T070000
END:DAYLIGHT
BEGIN:STANDARD
TZOFFSETFROM:-0400
TZOFFSETTO:-0500
TZNAME:EST
DTSTART:20241103T060000
END:STANDARD
BEGIN:DAYLIGHT
TZOFFSETFROM:-0500
TZOFFSETTO:-0400
TZNAME:EDT
DTSTART:20250309T070000
END:DAYLIGHT
BEGIN:STANDARD
TZOFFSETFROM:-0400
TZOFFSETTO:-0500
TZNAME:EST
DTSTART:20251102T060000
END:STANDARD
BEGIN:DAYLIGHT
TZOFFSETFROM:-0500
TZOFFSETTO:-0400
TZNAME:EDT
DTSTART:20260308T070000
END:DAYLIGHT
BEGIN:STANDARD
TZOFFSETFROM:-0400
TZOFFSETTO:-0500
TZNAME:EST
DTSTART:20261101T060000
END:STANDARD
END:VTIMEZONE
BEGIN:VEVENT
DTSTART;TZID=America/New_York:20250129T130000
DTEND;TZID=America/New_York:20250129T150000
DTSTAMP:20260424T081536
CREATED:20250107T211715Z
LAST-MODIFIED:20250107T211715Z
UID:10000518-1738155600-1738162800@mseaseiu.org
SUMMARY:Retiree Caucus
DESCRIPTION:
URL:https://mseaseiu.org/event/retiree-caucus/
LOCATION:MSEA Headquarters\, 5 Community Drive\, 3rd Floor\, Augusta\, ME\, 04330\, United States
END:VEVENT
BEGIN:VEVENT
DTSTART;TZID=America/New_York:20250129T160000
DTEND;TZID=America/New_York:20250129T180000
DTSTAMP:20260424T081536
CREATED:20250109T201736Z
LAST-MODIFIED:20250128T211536Z
UID:10000528-1738166400-1738173600@mseaseiu.org
SUMMARY:(postponed to 2/12 4-6 pm) Frank Marston Chapter Meeting
DESCRIPTION:
URL:https://mseaseiu.org/event/frank-marston-chapter-meeting-2/
LOCATION:MSEA Headquarters\, 5 Community Drive\, 3rd Floor\, Augusta\, ME\, 04330\, United States
END:VEVENT
END:VCALENDAR