BEGIN:VCALENDAR
VERSION:2.0
PRODID:-//MSEA-SEIU Local 1989 - ECPv6.15.20//NONSGML v1.0//EN
CALSCALE:GREGORIAN
METHOD:PUBLISH
X-ORIGINAL-URL:https://mseaseiu.org
X-WR-CALDESC:Events for MSEA-SEIU Local 1989
REFRESH-INTERVAL;VALUE=DURATION:PT1H
X-Robots-Tag:noindex
X-PUBLISHED-TTL:PT1H
BEGIN:VTIMEZONE
TZID:America/New_York
BEGIN:DAYLIGHT
TZOFFSETFROM:-0500
TZOFFSETTO:-0400
TZNAME:EDT
DTSTART:20240310T070000
END:DAYLIGHT
BEGIN:STANDARD
TZOFFSETFROM:-0400
TZOFFSETTO:-0500
TZNAME:EST
DTSTART:20241103T060000
END:STANDARD
BEGIN:DAYLIGHT
TZOFFSETFROM:-0500
TZOFFSETTO:-0400
TZNAME:EDT
DTSTART:20250309T070000
END:DAYLIGHT
BEGIN:STANDARD
TZOFFSETFROM:-0400
TZOFFSETTO:-0500
TZNAME:EST
DTSTART:20251102T060000
END:STANDARD
BEGIN:DAYLIGHT
TZOFFSETFROM:-0500
TZOFFSETTO:-0400
TZNAME:EDT
DTSTART:20260308T070000
END:DAYLIGHT
BEGIN:STANDARD
TZOFFSETFROM:-0400
TZOFFSETTO:-0500
TZNAME:EST
DTSTART:20261101T060000
END:STANDARD
END:VTIMEZONE
BEGIN:VEVENT
DTSTART;TZID=America/New_York:20250723T130000
DTEND;TZID=America/New_York:20250723T140000
DTSTAMP:20260420T093123
CREATED:20250205T143848Z
LAST-MODIFIED:20250410T180646Z
UID:10000559-1753275600-1753279200@mseaseiu.org
SUMMARY:Motor Vehicle Chapter Meeting
DESCRIPTION:
URL:https://mseaseiu.org/event/motor-vehicle-chapter-meeting-5/2025-07-23/
LOCATION:BMV Admin. Office\, Freeman Exec. Conf. Room\, 101 Hospital St.\, Augusta\, Maine\, 04330
END:VEVENT
BEGIN:VEVENT
DTSTART;TZID=America/New_York:20250723T174500
DTEND;TZID=America/New_York:20250723T184500
DTSTAMP:20260420T093123
CREATED:20250721T122832Z
LAST-MODIFIED:20250721T122832Z
UID:10000901-1753292700-1753296300@mseaseiu.org
SUMMARY:Stewards Guild Meeting via ZOOM
DESCRIPTION:
URL:https://mseaseiu.org/event/stewards-guild-meeting-via-zoom/
LOCATION:ME
END:VEVENT
END:VCALENDAR