BEGIN:VCALENDAR
VERSION:2.0
PRODID:-//MSEA-SEIU Local 1989 - ECPv6.15.20//NONSGML v1.0//EN
CALSCALE:GREGORIAN
METHOD:PUBLISH
X-WR-CALNAME:MSEA-SEIU Local 1989
X-ORIGINAL-URL:https://mseaseiu.org
X-WR-CALDESC:Events for MSEA-SEIU Local 1989
REFRESH-INTERVAL;VALUE=DURATION:PT1H
X-Robots-Tag:noindex
X-PUBLISHED-TTL:PT1H
BEGIN:VTIMEZONE
TZID:America/New_York
BEGIN:DAYLIGHT
TZOFFSETFROM:-0500
TZOFFSETTO:-0400
TZNAME:EDT
DTSTART:20230312T070000
END:DAYLIGHT
BEGIN:STANDARD
TZOFFSETFROM:-0400
TZOFFSETTO:-0500
TZNAME:EST
DTSTART:20231105T060000
END:STANDARD
BEGIN:DAYLIGHT
TZOFFSETFROM:-0500
TZOFFSETTO:-0400
TZNAME:EDT
DTSTART:20240310T070000
END:DAYLIGHT
BEGIN:STANDARD
TZOFFSETFROM:-0400
TZOFFSETTO:-0500
TZNAME:EST
DTSTART:20241103T060000
END:STANDARD
BEGIN:DAYLIGHT
TZOFFSETFROM:-0500
TZOFFSETTO:-0400
TZNAME:EDT
DTSTART:20250309T070000
END:DAYLIGHT
BEGIN:STANDARD
TZOFFSETFROM:-0400
TZOFFSETTO:-0500
TZNAME:EST
DTSTART:20251102T060000
END:STANDARD
BEGIN:DAYLIGHT
TZOFFSETFROM:-0500
TZOFFSETTO:-0400
TZNAME:EDT
DTSTART:20260308T070000
END:DAYLIGHT
BEGIN:STANDARD
TZOFFSETFROM:-0400
TZOFFSETTO:-0500
TZNAME:EST
DTSTART:20261101T060000
END:STANDARD
BEGIN:DAYLIGHT
TZOFFSETFROM:-0500
TZOFFSETTO:-0400
TZNAME:EDT
DTSTART:20270314T070000
END:DAYLIGHT
BEGIN:STANDARD
TZOFFSETFROM:-0400
TZOFFSETTO:-0500
TZNAME:EST
DTSTART:20271107T060000
END:STANDARD
END:VTIMEZONE
BEGIN:VEVENT
DTSTART;TZID=America/New_York:20260414T180000
DTEND;TZID=America/New_York:20260414T180000
DTSTAMP:20260420T163606
CREATED:20260413T153314Z
LAST-MODIFIED:20260413T184443Z
UID:10001486-1776189600-1776189600@mseaseiu.org
SUMMARY:Cumberland Chapter Meeting - In Person & ZOOM
DESCRIPTION:
URL:https://mseaseiu.org/event/cumberland-chapter-meeting-via-zoom-2/
LOCATION:Maine Irish Heritage Center\, 34 Gray Street\, Portland\, Maine\, 04102
END:VEVENT
BEGIN:VEVENT
DTSTART;TZID=America/New_York:20260210T180000
DTEND;TZID=America/New_York:20260210T180000
DTSTAMP:20260420T163606
CREATED:20260209T140748Z
LAST-MODIFIED:20260209T141612Z
UID:10001393-1770746400-1770746400@mseaseiu.org
SUMMARY:Cumberland Chapter Meeting
DESCRIPTION:
URL:https://mseaseiu.org/event/cumberland-chapter-meeting-23/
LOCATION:Maine Irish Heritage Center\, 34 Gray Street\, Portland\, Maine\, 04102
END:VEVENT
BEGIN:VEVENT
DTSTART;TZID=America/New_York:20251112T180000
DTEND;TZID=America/New_York:20251112T180000
DTSTAMP:20260420T163606
CREATED:20251107T201312Z
LAST-MODIFIED:20251107T201449Z
UID:10001311-1762970400-1762970400@mseaseiu.org
SUMMARY:Cumberland Chapter Meeting (In Person & Zoom)
DESCRIPTION:
URL:https://mseaseiu.org/event/cumberland-chapter-meeting-in-person-zoom/
LOCATION:Maine Irish Heritage Center\, 34 Gray Street\, Portland\, Maine\, 04102
END:VEVENT
BEGIN:VEVENT
DTSTART;TZID=America/New_York:20251021T180000
DTEND;TZID=America/New_York:20251021T180000
DTSTAMP:20260420T163606
CREATED:20250923T122218Z
LAST-MODIFIED:20250923T122218Z
UID:10000925-1761069600-1761069600@mseaseiu.org
SUMMARY:Area 3 Caucus - In Person & Zoom
DESCRIPTION:
URL:https://mseaseiu.org/event/area-3-caucus-in-person-zoom/
LOCATION:Maine Irish Heritage Center\, 34 Gray Street\, Portland\, Maine\, 04102
END:VEVENT
BEGIN:VEVENT
DTSTART;TZID=America/New_York:20251014T180000
DTEND;TZID=America/New_York:20251014T180000
DTSTAMP:20260420T163606
CREATED:20251008T202607Z
LAST-MODIFIED:20251008T202607Z
UID:10000932-1760464800-1760464800@mseaseiu.org
SUMMARY:Cumberland Chapter Meeting
DESCRIPTION:
URL:https://mseaseiu.org/event/cumberland-chapter-meeting-22/
LOCATION:Maine Irish Heritage Center\, 34 Gray Street\, Portland\, Maine\, 04102
END:VEVENT
BEGIN:VEVENT
DTSTART;TZID=America/New_York:20250909T180000
DTEND;TZID=America/New_York:20250909T180000
DTSTAMP:20260420T163606
CREATED:20250902T185421Z
LAST-MODIFIED:20250902T185620Z
UID:10000916-1757440800-1757440800@mseaseiu.org
SUMMARY:Cumberland Chapter Meeting
DESCRIPTION:
URL:https://mseaseiu.org/event/cumberland-chapter-meeting-21/
LOCATION:Maine Irish Heritage Center\, 34 Gray Street\, Portland\, Maine\, 04102
END:VEVENT
BEGIN:VEVENT
DTSTART;TZID=America/New_York:20250901T070000
DTEND;TZID=America/New_York:20250901T100000
DTSTAMP:20260420T163606
CREATED:20250514T123840Z
LAST-MODIFIED:20250825T164443Z
UID:10000888-1756710000-1756720800@mseaseiu.org
SUMMARY:SMLC Labor Day Breakfast
DESCRIPTION:
URL:https://mseaseiu.org/event/smlc-labor-day-breakfast-2/
LOCATION:Maine Irish Heritage Center\, 34 Gray Street\, Portland\, Maine\, 04102
END:VEVENT
BEGIN:VEVENT
DTSTART;TZID=America/New_York:20250617T180000
DTEND;TZID=America/New_York:20250617T180000
DTSTAMP:20260420T163606
CREATED:20250610T150844Z
LAST-MODIFIED:20250610T150844Z
UID:10000895-1750183200-1750183200@mseaseiu.org
SUMMARY:Cumberland Chapter Meeting
DESCRIPTION:
URL:https://mseaseiu.org/event/cumberland-chapter-meeting-20/
LOCATION:Maine Irish Heritage Center\, 34 Gray Street\, Portland\, Maine\, 04102
END:VEVENT
BEGIN:VEVENT
DTSTART;TZID=America/New_York:20250513T180000
DTEND;TZID=America/New_York:20250513T180000
DTSTAMP:20260420T163606
CREATED:20250507T155025Z
LAST-MODIFIED:20250507T155025Z
UID:10000886-1747159200-1747159200@mseaseiu.org
SUMMARY:Cumberland Chapter Meeting (ZOOM & In-person)
DESCRIPTION:
URL:https://mseaseiu.org/event/cumberland-chapter-meeting-zoom-in-person/
LOCATION:Maine Irish Heritage Center\, 34 Gray Street\, Portland\, Maine\, 04102
END:VEVENT
BEGIN:VEVENT
DTSTART;TZID=America/New_York:20250408T180000
DTEND;TZID=America/New_York:20250408T180000
DTSTAMP:20260420T163606
CREATED:20250401T163335Z
LAST-MODIFIED:20250401T163409Z
UID:10000876-1744135200-1744135200@mseaseiu.org
SUMMARY:Cumberland Chapter Meeting
DESCRIPTION:
URL:https://mseaseiu.org/event/cumberland-chapter-meeting-19/
LOCATION:Maine Irish Heritage Center\, 34 Gray Street\, Portland\, Maine\, 04102
END:VEVENT
BEGIN:VEVENT
DTSTART;TZID=America/New_York:20250311T180000
DTEND;TZID=America/New_York:20250311T180000
DTSTAMP:20260420T163606
CREATED:20250304T145213Z
LAST-MODIFIED:20250304T145213Z
UID:10000576-1741716000-1741716000@mseaseiu.org
SUMMARY:Cumberland Chapter Meeting
DESCRIPTION:
URL:https://mseaseiu.org/event/cumberland-chapter-meeting-18/
LOCATION:Maine Irish Heritage Center\, 34 Gray Street\, Portland\, Maine\, 04102
END:VEVENT
BEGIN:VEVENT
DTSTART;TZID=America/New_York:20250211T180000
DTEND;TZID=America/New_York:20250211T180000
DTSTAMP:20260420T163606
CREATED:20250206T135555Z
LAST-MODIFIED:20250206T135643Z
UID:10000564-1739296800-1739296800@mseaseiu.org
SUMMARY:Cumberland Chapter Meeting
DESCRIPTION:
URL:https://mseaseiu.org/event/cumberland-chapter-meeting-17/
LOCATION:Maine Irish Heritage Center\, 34 Gray Street\, Portland\, Maine\, 04102
END:VEVENT
BEGIN:VEVENT
DTSTART;TZID=America/New_York:20240902T080000
DTEND;TZID=America/New_York:20240902T100000
DTSTAMP:20260420T163606
CREATED:20240808T184142Z
LAST-MODIFIED:20240808T184142Z
UID:10000728-1725264000-1725271200@mseaseiu.org
SUMMARY:SMLC Labor Day Breakfast
DESCRIPTION:
URL:https://mseaseiu.org/event/smlc-labor-day-breakfast/
LOCATION:Maine Irish Heritage Center\, 34 Gray Street\, Portland\, Maine\, 04102
END:VEVENT
END:VCALENDAR