BEGIN:VCALENDAR
VERSION:2.0
PRODID:-//MSEA-SEIU Local 1989 - ECPv6.15.20//NONSGML v1.0//EN
CALSCALE:GREGORIAN
METHOD:PUBLISH
X-WR-CALNAME:MSEA-SEIU Local 1989
X-ORIGINAL-URL:https://mseaseiu.org
X-WR-CALDESC:Events for MSEA-SEIU Local 1989
REFRESH-INTERVAL;VALUE=DURATION:PT1H
X-Robots-Tag:noindex
X-PUBLISHED-TTL:PT1H
BEGIN:VTIMEZONE
TZID:America/New_York
BEGIN:DAYLIGHT
TZOFFSETFROM:-0500
TZOFFSETTO:-0400
TZNAME:EDT
DTSTART:20270314T070000
END:DAYLIGHT
BEGIN:STANDARD
TZOFFSETFROM:-0400
TZOFFSETTO:-0500
TZNAME:EST
DTSTART:20271107T060000
END:STANDARD
BEGIN:DAYLIGHT
TZOFFSETFROM:-0500
TZOFFSETTO:-0400
TZNAME:EDT
DTSTART:20280312T070000
END:DAYLIGHT
BEGIN:STANDARD
TZOFFSETFROM:-0400
TZOFFSETTO:-0500
TZNAME:EST
DTSTART:20281105T060000
END:STANDARD
BEGIN:DAYLIGHT
TZOFFSETFROM:-0500
TZOFFSETTO:-0400
TZNAME:EDT
DTSTART:20290311T070000
END:DAYLIGHT
BEGIN:STANDARD
TZOFFSETFROM:-0400
TZOFFSETTO:-0500
TZNAME:EST
DTSTART:20291104T060000
END:STANDARD
BEGIN:DAYLIGHT
TZOFFSETFROM:-0500
TZOFFSETTO:-0400
TZNAME:EDT
DTSTART:20300310T070000
END:DAYLIGHT
BEGIN:STANDARD
TZOFFSETFROM:-0400
TZOFFSETTO:-0500
TZNAME:EST
DTSTART:20301103T060000
END:STANDARD
BEGIN:DAYLIGHT
TZOFFSETFROM:-0500
TZOFFSETTO:-0400
TZNAME:EDT
DTSTART:20310309T070000
END:DAYLIGHT
BEGIN:STANDARD
TZOFFSETFROM:-0400
TZOFFSETTO:-0500
TZNAME:EST
DTSTART:20311102T060000
END:STANDARD
END:VTIMEZONE
BEGIN:VEVENT
DTSTART;TZID=America/New_York:20280511T180000
DTEND;TZID=America/New_York:20280511T180000
DTSTAMP:20260420T081647
CREATED:20240313T200648Z
LAST-MODIFIED:20240313T200648Z
UID:10000280-1841680800-1841680800@mseaseiu.org
SUMMARY:Central Maine Labor Council (In Person & ZOOM)
DESCRIPTION:
URL:https://mseaseiu.org/event/central-maine-labor-council-in-person-zoom/2028-05-11/
LOCATION:USW 449 Hall\, 577 Benton Rd\, Winslow\, ME\, 04901
END:VEVENT
BEGIN:VEVENT
DTSTART;TZID=America/New_York:20280608T180000
DTEND;TZID=America/New_York:20280608T180000
DTSTAMP:20260420T081647
CREATED:20240313T200648Z
LAST-MODIFIED:20240313T200648Z
UID:10000281-1844100000-1844100000@mseaseiu.org
SUMMARY:Central Maine Labor Council (In Person & ZOOM)
DESCRIPTION:
URL:https://mseaseiu.org/event/central-maine-labor-council-in-person-zoom/2028-06-08/
LOCATION:USW 449 Hall\, 577 Benton Rd\, Winslow\, ME\, 04901
END:VEVENT
BEGIN:VEVENT
DTSTART;TZID=America/New_York:20280713T180000
DTEND;TZID=America/New_York:20280713T180000
DTSTAMP:20260420T081647
CREATED:20240313T200648Z
LAST-MODIFIED:20240313T200648Z
UID:10000282-1847124000-1847124000@mseaseiu.org
SUMMARY:Central Maine Labor Council (In Person & ZOOM)
DESCRIPTION:
URL:https://mseaseiu.org/event/central-maine-labor-council-in-person-zoom/2028-07-13/
LOCATION:USW 449 Hall\, 577 Benton Rd\, Winslow\, ME\, 04901
END:VEVENT
BEGIN:VEVENT
DTSTART;TZID=America/New_York:20280810T180000
DTEND;TZID=America/New_York:20280810T180000
DTSTAMP:20260420T081647
CREATED:20240313T200648Z
LAST-MODIFIED:20240313T200648Z
UID:10000283-1849543200-1849543200@mseaseiu.org
SUMMARY:Central Maine Labor Council (In Person & ZOOM)
DESCRIPTION:
URL:https://mseaseiu.org/event/central-maine-labor-council-in-person-zoom/2028-08-10/
LOCATION:USW 449 Hall\, 577 Benton Rd\, Winslow\, ME\, 04901
END:VEVENT
BEGIN:VEVENT
DTSTART;TZID=America/New_York:20280914T180000
DTEND;TZID=America/New_York:20280914T180000
DTSTAMP:20260420T081647
CREATED:20240313T200648Z
LAST-MODIFIED:20240313T200648Z
UID:10000284-1852567200-1852567200@mseaseiu.org
SUMMARY:Central Maine Labor Council (In Person & ZOOM)
DESCRIPTION:
URL:https://mseaseiu.org/event/central-maine-labor-council-in-person-zoom/2028-09-14/
LOCATION:USW 449 Hall\, 577 Benton Rd\, Winslow\, ME\, 04901
END:VEVENT
BEGIN:VEVENT
DTSTART;TZID=America/New_York:20281012T180000
DTEND;TZID=America/New_York:20281012T180000
DTSTAMP:20260420T081647
CREATED:20240313T200648Z
LAST-MODIFIED:20240313T200648Z
UID:10000285-1854986400-1854986400@mseaseiu.org
SUMMARY:Central Maine Labor Council (In Person & ZOOM)
DESCRIPTION:
URL:https://mseaseiu.org/event/central-maine-labor-council-in-person-zoom/2028-10-12/
LOCATION:USW 449 Hall\, 577 Benton Rd\, Winslow\, ME\, 04901
END:VEVENT
BEGIN:VEVENT
DTSTART;TZID=America/New_York:20281109T180000
DTEND;TZID=America/New_York:20281109T180000
DTSTAMP:20260420T081647
CREATED:20240313T200648Z
LAST-MODIFIED:20240313T200648Z
UID:10000286-1857405600-1857405600@mseaseiu.org
SUMMARY:Central Maine Labor Council (In Person & ZOOM)
DESCRIPTION:
URL:https://mseaseiu.org/event/central-maine-labor-council-in-person-zoom/2028-11-09/
LOCATION:USW 449 Hall\, 577 Benton Rd\, Winslow\, ME\, 04901
END:VEVENT
BEGIN:VEVENT
DTSTART;TZID=America/New_York:20281214T180000
DTEND;TZID=America/New_York:20281214T180000
DTSTAMP:20260420T081647
CREATED:20240313T200648Z
LAST-MODIFIED:20240313T200648Z
UID:10000287-1860429600-1860429600@mseaseiu.org
SUMMARY:Central Maine Labor Council (In Person & ZOOM)
DESCRIPTION:
URL:https://mseaseiu.org/event/central-maine-labor-council-in-person-zoom/2028-12-14/
LOCATION:USW 449 Hall\, 577 Benton Rd\, Winslow\, ME\, 04901
END:VEVENT
BEGIN:VEVENT
DTSTART;TZID=America/New_York:20290111T180000
DTEND;TZID=America/New_York:20290111T180000
DTSTAMP:20260420T081647
CREATED:20240313T200648Z
LAST-MODIFIED:20240313T200648Z
UID:10000288-1862848800-1862848800@mseaseiu.org
SUMMARY:Central Maine Labor Council (In Person & ZOOM)
DESCRIPTION:
URL:https://mseaseiu.org/event/central-maine-labor-council-in-person-zoom/2029-01-11/
LOCATION:USW 449 Hall\, 577 Benton Rd\, Winslow\, ME\, 04901
END:VEVENT
BEGIN:VEVENT
DTSTART;TZID=America/New_York:20290208T180000
DTEND;TZID=America/New_York:20290208T180000
DTSTAMP:20260420T081647
CREATED:20240313T200648Z
LAST-MODIFIED:20240313T200648Z
UID:10000289-1865268000-1865268000@mseaseiu.org
SUMMARY:Central Maine Labor Council (In Person & ZOOM)
DESCRIPTION:
URL:https://mseaseiu.org/event/central-maine-labor-council-in-person-zoom/2029-02-08/
LOCATION:USW 449 Hall\, 577 Benton Rd\, Winslow\, ME\, 04901
END:VEVENT
BEGIN:VEVENT
DTSTART;TZID=America/New_York:20290308T180000
DTEND;TZID=America/New_York:20290308T180000
DTSTAMP:20260420T081647
CREATED:20240313T200648Z
LAST-MODIFIED:20240313T200648Z
UID:10000290-1867687200-1867687200@mseaseiu.org
SUMMARY:Central Maine Labor Council (In Person & ZOOM)
DESCRIPTION:
URL:https://mseaseiu.org/event/central-maine-labor-council-in-person-zoom/2029-03-08/
LOCATION:USW 449 Hall\, 577 Benton Rd\, Winslow\, ME\, 04901
END:VEVENT
BEGIN:VEVENT
DTSTART;TZID=America/New_York:20290412T180000
DTEND;TZID=America/New_York:20290412T180000
DTSTAMP:20260420T081647
CREATED:20240313T200648Z
LAST-MODIFIED:20240313T200648Z
UID:10000291-1870711200-1870711200@mseaseiu.org
SUMMARY:Central Maine Labor Council (In Person & ZOOM)
DESCRIPTION:
URL:https://mseaseiu.org/event/central-maine-labor-council-in-person-zoom/2029-04-12/
LOCATION:USW 449 Hall\, 577 Benton Rd\, Winslow\, ME\, 04901
END:VEVENT
BEGIN:VEVENT
DTSTART;TZID=America/New_York:20290510T180000
DTEND;TZID=America/New_York:20290510T180000
DTSTAMP:20260420T081647
CREATED:20240313T200648Z
LAST-MODIFIED:20240313T200648Z
UID:10000292-1873130400-1873130400@mseaseiu.org
SUMMARY:Central Maine Labor Council (In Person & ZOOM)
DESCRIPTION:
URL:https://mseaseiu.org/event/central-maine-labor-council-in-person-zoom/2029-05-10/
LOCATION:USW 449 Hall\, 577 Benton Rd\, Winslow\, ME\, 04901
END:VEVENT
BEGIN:VEVENT
DTSTART;TZID=America/New_York:20290614T180000
DTEND;TZID=America/New_York:20290614T180000
DTSTAMP:20260420T081647
CREATED:20240313T200648Z
LAST-MODIFIED:20240313T200648Z
UID:10000293-1876154400-1876154400@mseaseiu.org
SUMMARY:Central Maine Labor Council (In Person & ZOOM)
DESCRIPTION:
URL:https://mseaseiu.org/event/central-maine-labor-council-in-person-zoom/2029-06-14/
LOCATION:USW 449 Hall\, 577 Benton Rd\, Winslow\, ME\, 04901
END:VEVENT
BEGIN:VEVENT
DTSTART;TZID=America/New_York:20290712T180000
DTEND;TZID=America/New_York:20290712T180000
DTSTAMP:20260420T081647
CREATED:20240313T200648Z
LAST-MODIFIED:20240313T200648Z
UID:10000294-1878573600-1878573600@mseaseiu.org
SUMMARY:Central Maine Labor Council (In Person & ZOOM)
DESCRIPTION:
URL:https://mseaseiu.org/event/central-maine-labor-council-in-person-zoom/2029-07-12/
LOCATION:USW 449 Hall\, 577 Benton Rd\, Winslow\, ME\, 04901
END:VEVENT
BEGIN:VEVENT
DTSTART;TZID=America/New_York:20290809T180000
DTEND;TZID=America/New_York:20290809T180000
DTSTAMP:20260420T081647
CREATED:20240313T200648Z
LAST-MODIFIED:20240313T200648Z
UID:10000295-1880992800-1880992800@mseaseiu.org
SUMMARY:Central Maine Labor Council (In Person & ZOOM)
DESCRIPTION:
URL:https://mseaseiu.org/event/central-maine-labor-council-in-person-zoom/2029-08-09/
LOCATION:USW 449 Hall\, 577 Benton Rd\, Winslow\, ME\, 04901
END:VEVENT
BEGIN:VEVENT
DTSTART;TZID=America/New_York:20290913T180000
DTEND;TZID=America/New_York:20290913T180000
DTSTAMP:20260420T081647
CREATED:20240313T200648Z
LAST-MODIFIED:20240313T200648Z
UID:10000296-1884016800-1884016800@mseaseiu.org
SUMMARY:Central Maine Labor Council (In Person & ZOOM)
DESCRIPTION:
URL:https://mseaseiu.org/event/central-maine-labor-council-in-person-zoom/2029-09-13/
LOCATION:USW 449 Hall\, 577 Benton Rd\, Winslow\, ME\, 04901
END:VEVENT
BEGIN:VEVENT
DTSTART;TZID=America/New_York:20291011T180000
DTEND;TZID=America/New_York:20291011T180000
DTSTAMP:20260420T081647
CREATED:20240313T200648Z
LAST-MODIFIED:20240313T200648Z
UID:10000297-1886436000-1886436000@mseaseiu.org
SUMMARY:Central Maine Labor Council (In Person & ZOOM)
DESCRIPTION:
URL:https://mseaseiu.org/event/central-maine-labor-council-in-person-zoom/2029-10-11/
LOCATION:USW 449 Hall\, 577 Benton Rd\, Winslow\, ME\, 04901
END:VEVENT
BEGIN:VEVENT
DTSTART;TZID=America/New_York:20291108T180000
DTEND;TZID=America/New_York:20291108T180000
DTSTAMP:20260420T081647
CREATED:20240313T200648Z
LAST-MODIFIED:20240313T200648Z
UID:10000298-1888855200-1888855200@mseaseiu.org
SUMMARY:Central Maine Labor Council (In Person & ZOOM)
DESCRIPTION:
URL:https://mseaseiu.org/event/central-maine-labor-council-in-person-zoom/2029-11-08/
LOCATION:USW 449 Hall\, 577 Benton Rd\, Winslow\, ME\, 04901
END:VEVENT
BEGIN:VEVENT
DTSTART;TZID=America/New_York:20291213T180000
DTEND;TZID=America/New_York:20291213T180000
DTSTAMP:20260420T081647
CREATED:20240313T200648Z
LAST-MODIFIED:20240313T200648Z
UID:10000299-1891879200-1891879200@mseaseiu.org
SUMMARY:Central Maine Labor Council (In Person & ZOOM)
DESCRIPTION:
URL:https://mseaseiu.org/event/central-maine-labor-council-in-person-zoom/2029-12-13/
LOCATION:USW 449 Hall\, 577 Benton Rd\, Winslow\, ME\, 04901
END:VEVENT
BEGIN:VEVENT
DTSTART;TZID=America/New_York:20300110T180000
DTEND;TZID=America/New_York:20300110T180000
DTSTAMP:20260420T081647
CREATED:20240313T200648Z
LAST-MODIFIED:20240313T200648Z
UID:10000300-1894298400-1894298400@mseaseiu.org
SUMMARY:Central Maine Labor Council (In Person & ZOOM)
DESCRIPTION:
URL:https://mseaseiu.org/event/central-maine-labor-council-in-person-zoom/2030-01-10/
LOCATION:USW 449 Hall\, 577 Benton Rd\, Winslow\, ME\, 04901
END:VEVENT
BEGIN:VEVENT
DTSTART;TZID=America/New_York:20300214T180000
DTEND;TZID=America/New_York:20300214T180000
DTSTAMP:20260420T081647
CREATED:20240313T200648Z
LAST-MODIFIED:20240313T200648Z
UID:10000301-1897322400-1897322400@mseaseiu.org
SUMMARY:Central Maine Labor Council (In Person & ZOOM)
DESCRIPTION:
URL:https://mseaseiu.org/event/central-maine-labor-council-in-person-zoom/2030-02-14/
LOCATION:USW 449 Hall\, 577 Benton Rd\, Winslow\, ME\, 04901
END:VEVENT
BEGIN:VEVENT
DTSTART;TZID=America/New_York:20300314T180000
DTEND;TZID=America/New_York:20300314T180000
DTSTAMP:20260420T081647
CREATED:20240313T200648Z
LAST-MODIFIED:20240313T200648Z
UID:10000302-1899741600-1899741600@mseaseiu.org
SUMMARY:Central Maine Labor Council (In Person & ZOOM)
DESCRIPTION:
URL:https://mseaseiu.org/event/central-maine-labor-council-in-person-zoom/2030-03-14/
LOCATION:USW 449 Hall\, 577 Benton Rd\, Winslow\, ME\, 04901
END:VEVENT
BEGIN:VEVENT
DTSTART;TZID=America/New_York:20300411T180000
DTEND;TZID=America/New_York:20300411T180000
DTSTAMP:20260420T081647
CREATED:20240313T200648Z
LAST-MODIFIED:20240313T200648Z
UID:10000303-1902160800-1902160800@mseaseiu.org
SUMMARY:Central Maine Labor Council (In Person & ZOOM)
DESCRIPTION:
URL:https://mseaseiu.org/event/central-maine-labor-council-in-person-zoom/2030-04-11/
LOCATION:USW 449 Hall\, 577 Benton Rd\, Winslow\, ME\, 04901
END:VEVENT
BEGIN:VEVENT
DTSTART;TZID=America/New_York:20300509T180000
DTEND;TZID=America/New_York:20300509T180000
DTSTAMP:20260420T081647
CREATED:20240313T200648Z
LAST-MODIFIED:20240313T200648Z
UID:10000304-1904580000-1904580000@mseaseiu.org
SUMMARY:Central Maine Labor Council (In Person & ZOOM)
DESCRIPTION:
URL:https://mseaseiu.org/event/central-maine-labor-council-in-person-zoom/2030-05-09/
LOCATION:USW 449 Hall\, 577 Benton Rd\, Winslow\, ME\, 04901
END:VEVENT
BEGIN:VEVENT
DTSTART;TZID=America/New_York:20300613T180000
DTEND;TZID=America/New_York:20300613T180000
DTSTAMP:20260420T081647
CREATED:20240313T200648Z
LAST-MODIFIED:20240313T200648Z
UID:10000305-1907604000-1907604000@mseaseiu.org
SUMMARY:Central Maine Labor Council (In Person & ZOOM)
DESCRIPTION:
URL:https://mseaseiu.org/event/central-maine-labor-council-in-person-zoom/2030-06-13/
LOCATION:USW 449 Hall\, 577 Benton Rd\, Winslow\, ME\, 04901
END:VEVENT
END:VCALENDAR